BEGIN:VCALENDAR
VERSION:2.0
PRODID:-//Squarespace Inc/Squarespace 6//v6//EN
BEGIN:VEVENT
UID:5ac0c7ffaa4a998a3b82c111@squarespace.com
DTSTAMP:20180401T120119Z
DTSTART:20180525T093000Z
DTEND:20180526T040000Z
SUMMARY:Together NT women’s conference
END:VEVENT
END:VCALENDAR
