BEGIN:VCALENDAR
VERSION:2.0
PRODID:-//Squarespace Inc/Squarespace 6//v6//EN
BEGIN:VEVENT
UID:5aeda6fc562fa7607f0a3dd4@squarespace.com
DTSTAMP:20180505T125254Z
DTSTART:20180512T233000Z
DTEND:20180513T090000Z
SUMMARY:Mother's Day 2018
END:VEVENT
END:VCALENDAR
