BEGIN:VCALENDAR
VERSION:2.0
PRODID:-//Squarespace Inc/Squarespace 6//v6//EN
BEGIN:VEVENT
UID:5a8046bce4966bd4a41c9c05@squarespace.com
DTSTAMP:20180211T134005Z
DTSTART:20180216T093000Z
DTEND:20180216T113000Z
SUMMARY:The Experienced Ones Dinner
END:VEVENT
END:VCALENDAR
